BEGIN:VCALENDAR
VERSION:2.0
PRODID:-//Starticket AG//139064//it
BEGIN:VEVENT
UID:starticket.ch-139064
DTSTAMP:20260628T201500
DTSTART:20260628T201500
DTEND:20260628T235959
SUMMARY:Man with a Mission
DESCRIPTION:Man with a Mission\n \nhttps://www.starticket.ch/it/man-with-a-mission-20260628-2015-pont-rouge-monthey
LOCATION:Pont Rouge, Monthey
END:VEVENT
END:VCALENDAR