BEGIN:VCALENDAR
VERSION:2.0
PRODID:-//Starticket AG//138895//it
BEGIN:VEVENT
UID:starticket.ch-138895
DTSTAMP:20260426T200000
DTSTART:20260426T200000
DTEND:20260426T235959
SUMMARY:Eydís Evensen
DESCRIPTION:Eydís Evensen\n \nhttps://www.starticket.ch/it/eydis-evensen-20260426-2000-kaufleuten-festsaal-zurich
LOCATION:Kaufleuten Festsaal, Zürich
END:VEVENT
END:VCALENDAR