BEGIN:VCALENDAR
VERSION:2.0
PRODID:-//Starticket AG//138567//en
BEGIN:VEVENT
UID:starticket.ch-138567
DTSTAMP:20261029T192000
DTSTART:20261029T192000
DTEND:20261029T235959
SUMMARY:Simple Plan (CA)
DESCRIPTION:Simple Plan (CA)\n \nhttps://www.starticket.ch/en/simple-plan-ca-20261029-1920-halle-622-zurich
LOCATION:Halle 622, Zürich
END:VEVENT
END:VCALENDAR