BEGIN:VCALENDAR
VERSION:2.0
PRODID:-//Starticket AG//139556//de
BEGIN:VEVENT
UID:starticket.ch-139556
DTSTAMP:20261114T203000
DTSTART:20261114T203000
DTEND:20261114T235959
SUMMARY:WALLACE CLEAVER (FR) 
DESCRIPTION:WALLACE CLEAVER (FR) \n \nhttps://www.starticket.ch/de/wallace-cleaver-fr-20261114-2030-docks-lausanne
LOCATION:Docks, Lausanne
END:VEVENT
END:VCALENDAR