BEGIN:VCALENDAR
VERSION:2.0
PRODID:-//Starticket AG//139479//de
BEGIN:VEVENT
UID:starticket.ch-139479
DTSTAMP:20261204T203000
DTSTART:20261204T203000
DTEND:20261204T235959
SUMMARY:LEBANON HANOVER (UK)
DESCRIPTION:LEBANON HANOVER (UK)\n \nhttps://www.starticket.ch/de/lebanon-hanover-uk-20261204-2030-docks-lausanne
LOCATION:Docks, Lausanne
END:VEVENT
END:VCALENDAR