BEGIN:VCALENDAR
VERSION:2.0
PRODID:-//Starticket AG//139108//de
BEGIN:VEVENT
UID:starticket.ch-139108
DTSTAMP:20260623T203000
DTSTART:20260623T203000
DTEND:20260623T235959
SUMMARY:HATEBREED (US)
DESCRIPTION:HATEBREED (US)\n \nhttps://www.starticket.ch/de/hatebreed-us-20260623-2030-docks-lausanne
LOCATION:Docks, Lausanne
END:VEVENT
END:VCALENDAR