BEGIN:VCALENDAR
VERSION:2.0
PRODID:-//Starticket AG//138657//de
BEGIN:VEVENT
UID:starticket.ch-138657
DTSTAMP:20260804T183000
DTSTART:20260804T183000
DTEND:20260804T235959
SUMMARY:Saxon | Z7 Summer Nights Open Air
DESCRIPTION:Saxon | Z7 Summer Nights Open Air\n \nhttps://www.starticket.ch/de/saxon-z7-summer-nights-open-air-20260804-1830-konzertfabrik-z7-pratteln
LOCATION:Konzertfabrik Z7, Pratteln
END:VEVENT
END:VCALENDAR