BEGIN:VCALENDAR
VERSION:2.0
PRODID:-//Starticket AG//138489//de
BEGIN:VEVENT
UID:starticket.ch-138489
DTSTAMP:20260510T200000
DTSTART:20260510T200000
DTEND:20260510T235959
SUMMARY:Ansa Sauermann
DESCRIPTION:Ansa Sauermann\n \nhttps://www.starticket.ch/de/ansa-sauermann-20260510-2000-kaufleuten-festsaal-zurich
LOCATION:Kaufleuten Festsaal, Zürich
END:VEVENT
END:VCALENDAR